BEGIN:VCALENDAR
VERSION:2.0
PRODID:-//Richmond Village Association - ECPv6.15.20//NONSGML v1.0//EN
CALSCALE:GREGORIAN
METHOD:PUBLISH
X-WR-CALNAME:Richmond Village Association
X-ORIGINAL-URL:https://richmondvillage.ca
X-WR-CALDESC:Events for Richmond Village Association
REFRESH-INTERVAL;VALUE=DURATION:PT1H
X-Robots-Tag:noindex
X-PUBLISHED-TTL:PT1H
BEGIN:VTIMEZONE
TZID:America/Toronto
BEGIN:DAYLIGHT
TZOFFSETFROM:-0500
TZOFFSETTO:-0400
TZNAME:EDT
DTSTART:20250309T070000
END:DAYLIGHT
BEGIN:STANDARD
TZOFFSETFROM:-0400
TZOFFSETTO:-0500
TZNAME:EST
DTSTART:20251102T060000
END:STANDARD
BEGIN:DAYLIGHT
TZOFFSETFROM:-0500
TZOFFSETTO:-0400
TZNAME:EDT
DTSTART:20260308T070000
END:DAYLIGHT
BEGIN:STANDARD
TZOFFSETFROM:-0400
TZOFFSETTO:-0500
TZNAME:EST
DTSTART:20261101T060000
END:STANDARD
BEGIN:DAYLIGHT
TZOFFSETFROM:-0500
TZOFFSETTO:-0400
TZNAME:EDT
DTSTART:20270314T070000
END:DAYLIGHT
BEGIN:STANDARD
TZOFFSETFROM:-0400
TZOFFSETTO:-0500
TZNAME:EST
DTSTART:20271107T060000
END:STANDARD
END:VTIMEZONE
BEGIN:VEVENT
DTSTART;TZID=America/Toronto:20260324T100000
DTEND;TZID=America/Toronto:20260324T160000
DTSTAMP:20260420T090320
CREATED:20260303T214325Z
LAST-MODIFIED:20260303T214724Z
UID:10000065-1774346400-1774368000@richmondvillage.ca
SUMMARY:Dental Screening 2026
DESCRIPTION:
URL:https://richmondvillage.ca/event/dental-screening-2026/
LOCATION:Richmond Public Library\, 6240 Perth street\, Richmond\, ON\, K0A 2Z0
CATEGORIES:non-RVA Event
ATTACH;FMTTYPE=image/png:https://richmondvillage.ca/wp-content/uploads/2026/03/RVA-dentist2.png
END:VEVENT
END:VCALENDAR