BEGIN:VCALENDAR
VERSION:2.0
PRODID:-//Richmond Village Association - ECPv6.15.20//NONSGML v1.0//EN
CALSCALE:GREGORIAN
METHOD:PUBLISH
X-ORIGINAL-URL:https://richmondvillage.ca
X-WR-CALDESC:Events for Richmond Village Association
REFRESH-INTERVAL;VALUE=DURATION:PT1H
X-Robots-Tag:noindex
X-PUBLISHED-TTL:PT1H
BEGIN:VTIMEZONE
TZID:America/Toronto
BEGIN:DAYLIGHT
TZOFFSETFROM:-0500
TZOFFSETTO:-0400
TZNAME:EDT
DTSTART:20240310T070000
END:DAYLIGHT
BEGIN:STANDARD
TZOFFSETFROM:-0400
TZOFFSETTO:-0500
TZNAME:EST
DTSTART:20241103T060000
END:STANDARD
BEGIN:DAYLIGHT
TZOFFSETFROM:-0500
TZOFFSETTO:-0400
TZNAME:EDT
DTSTART:20250309T070000
END:DAYLIGHT
BEGIN:STANDARD
TZOFFSETFROM:-0400
TZOFFSETTO:-0500
TZNAME:EST
DTSTART:20251102T060000
END:STANDARD
BEGIN:DAYLIGHT
TZOFFSETFROM:-0500
TZOFFSETTO:-0400
TZNAME:EDT
DTSTART:20260308T070000
END:DAYLIGHT
BEGIN:STANDARD
TZOFFSETFROM:-0400
TZOFFSETTO:-0500
TZNAME:EST
DTSTART:20261101T060000
END:STANDARD
BEGIN:DAYLIGHT
TZOFFSETFROM:-0500
TZOFFSETTO:-0400
TZNAME:EDT
DTSTART:20270314T070000
END:DAYLIGHT
BEGIN:STANDARD
TZOFFSETFROM:-0400
TZOFFSETTO:-0500
TZNAME:EST
DTSTART:20271107T060000
END:STANDARD
END:VTIMEZONE
BEGIN:VEVENT
DTSTART;TZID=America/Toronto:20260128T183000
DTEND;TZID=America/Toronto:20260128T200000
DTSTAMP:20260419T125027
CREATED:20250923T233557Z
LAST-MODIFIED:20260120T233522Z
UID:10000048-1769625000-1769630400@richmondvillage.ca
SUMMARY:AGM 2026
DESCRIPTION:Join us for the Richmond Village Association’s Annual General Meeting! \n📅 When: Wednesday\, January 28\, 2026\n🕕 Time: 6:30 PM\n📍 Where: St. Philip Parish\, 127 Burke St\, Richmond\, ON K0A 2Z0 \nThe RVA invites all community members to our Annual General Meeting! We’ll look back on the events and initiatives we hosted over the past year and share exciting plans for the year ahead. This is a great opportunity to get involved\, meet your neighbours\, and learn how you can help shape our community’s future. \nWe’re also looking for volunteers to join our team and help make Richmond Village an even better place to live. Whether you can lend a hand at events or take on a bigger role\, your contribution makes a difference! \nCome out\, share your ideas\, and be part of what makes Richmond Village special. Everyone is welcome — we hope to see you there!
URL:https://richmondvillage.ca/event/agm-2026/
LOCATION:St. Philip Parish\, 127 Burke St\, Richmond\, ON\, K0A 2Z0\, Canada
CATEGORIES:RVA Event
ATTACH;FMTTYPE=image/png:https://richmondvillage.ca/wp-content/uploads/2025/09/Artistly-Design-019978e3-24a2-71bd-ac4f-6fa0b97f6cd5-Small.png
END:VEVENT
BEGIN:VEVENT
DTSTART;TZID=America/Toronto:20260124T130000
DTEND;TZID=America/Toronto:20260124T150000
DTSTAMP:20260419T125027
CREATED:20260113T222923Z
LAST-MODIFIED:20260113T223824Z
UID:10000055-1769259600-1769266800@richmondvillage.ca
SUMMARY:Breastfeeding
DESCRIPTION:https://www.eventbrite.com/cc/breastfeeding-cafes-cafe-de-lallaitement-4805681\n \n 
URL:https://richmondvillage.ca/event/breastfeeding/2026-01-24/
LOCATION:2 MacNeil Ct\, 2 MacNeil Ct\, Kanata\, ON\, K2L 4H7\, Canada
CATEGORIES:non-RVA Event
ATTACH;FMTTYPE=image/png:https://richmondvillage.ca/wp-content/uploads/2026/01/breastfeeding.png
END:VEVENT
BEGIN:VEVENT
DTSTART;TZID=America/Toronto:20251206T173000
DTEND;TZID=America/Toronto:20251206T183000
DTSTAMP:20260419T125027
CREATED:20250916T205030Z
LAST-MODIFIED:20260408T002432Z
UID:10000045-1765042200-1765045800@richmondvillage.ca
SUMMARY:Christmas Parade 2025
DESCRIPTION:https://www.youtube.com/watch?v=dDS2igL3OWs
URL:https://richmondvillage.ca/event/christmas-parade-2025/
CATEGORIES:RVA Event
ATTACH;FMTTYPE=image/png:https://richmondvillage.ca/wp-content/uploads/2025/09/Artistly-Design-01995458-97a5-7272-b0c6-a8af9632b45a.png
END:VEVENT
END:VCALENDAR