BEGIN:VCALENDAR
VERSION:2.0
PRODID:-//Richmond Village Association - ECPv6.15.20//NONSGML v1.0//EN
CALSCALE:GREGORIAN
METHOD:PUBLISH
X-WR-CALNAME:Richmond Village Association
X-ORIGINAL-URL:https://richmondvillage.ca
X-WR-CALDESC:Events for Richmond Village Association
REFRESH-INTERVAL;VALUE=DURATION:PT1H
X-Robots-Tag:noindex
X-PUBLISHED-TTL:PT1H
BEGIN:VTIMEZONE
TZID:America/Toronto
BEGIN:DAYLIGHT
TZOFFSETFROM:-0500
TZOFFSETTO:-0400
TZNAME:EDT
DTSTART:20250309T070000
END:DAYLIGHT
BEGIN:STANDARD
TZOFFSETFROM:-0400
TZOFFSETTO:-0500
TZNAME:EST
DTSTART:20251102T060000
END:STANDARD
BEGIN:DAYLIGHT
TZOFFSETFROM:-0500
TZOFFSETTO:-0400
TZNAME:EDT
DTSTART:20260308T070000
END:DAYLIGHT
BEGIN:STANDARD
TZOFFSETFROM:-0400
TZOFFSETTO:-0500
TZNAME:EST
DTSTART:20261101T060000
END:STANDARD
BEGIN:DAYLIGHT
TZOFFSETFROM:-0500
TZOFFSETTO:-0400
TZNAME:EDT
DTSTART:20270314T070000
END:DAYLIGHT
BEGIN:STANDARD
TZOFFSETFROM:-0400
TZOFFSETTO:-0500
TZNAME:EST
DTSTART:20271107T060000
END:STANDARD
END:VTIMEZONE
BEGIN:VEVENT
DTSTART;TZID=America/Toronto:20260509T080000
DTEND;TZID=America/Toronto:20260509T130000
DTSTAMP:20260423T090934
CREATED:20260205T174806Z
LAST-MODIFIED:20260411T153124Z
UID:10000057-1778313600-1778331600@richmondvillage.ca
SUMMARY:Garage Sale 2026
DESCRIPTION:Hi everyone\,\nGet ready — our Richmond Village Community-Wide Garage Sale is coming up on Saturday\, May 9th\, from 8:00 AM to 1:00 PM!\nThis is the perfect chance to clear out clutter\, discover hidden treasures\, and enjoy some neighbourly fun. Whether you’re planning to sell or shop\, we’d love for you to join in!\nWant to take part as a seller?\nSend your address to garagesale@richmondvillage.ca so we can add your location to the official event map.\nEvent Details\nDate: Saturday\, May 9th\nTime: 8:00 AM – 1:00 PM\nLocation: Throughout Richmond Village\nLet’s make this a lively day full of community spirit. Please spread the word and invite your friends and neighbours!\n— Richmond Village Association\n 
URL:https://richmondvillage.ca/event/garage-sale-2026/
CATEGORIES:RVA Event
ATTACH;FMTTYPE=image/png:https://richmondvillage.ca/wp-content/uploads/2026/02/Artistly-Design-019c2f4f-721e-70c3-a477-7866db74f473.png
END:VEVENT
BEGIN:VEVENT
DTSTART;TZID=America/Toronto:20260509T080000
DTEND;TZID=America/Toronto:20260509T140000
DTSTAMP:20260423T090934
CREATED:20260410T184225Z
LAST-MODIFIED:20260410T184225Z
UID:10000102-1778313600-1778335200@richmondvillage.ca
SUMMARY:FCA Garage Sale
DESCRIPTION:
URL:https://richmondvillage.ca/event/fca-garage-sale/
CATEGORIES:non-RVA Event
ATTACH;FMTTYPE=image/png:https://richmondvillage.ca/wp-content/uploads/2026/04/2026-05-09_FCA.png
END:VEVENT
BEGIN:VEVENT
DTSTART;TZID=America/Toronto:20260509T090000
DTEND;TZID=America/Toronto:20260509T120000
DTSTAMP:20260423T090934
CREATED:20260408T011210Z
LAST-MODIFIED:20260408T011210Z
UID:10000094-1778317200-1778328000@richmondvillage.ca
SUMMARY:St. John's Anglican Sales Event
DESCRIPTION:
URL:https://richmondvillage.ca/event/st-johns-anglican-sales-event/
LOCATION:St. John’s Anglican Church\, 67 Fowler\, Richmond\, ON\, K0A 2Z0
ATTACH;FMTTYPE=image/png:https://richmondvillage.ca/wp-content/uploads/2026/04/2026-05-09_Anglican.png
END:VEVENT
BEGIN:VEVENT
DTSTART;TZID=America/Toronto:20260509T120000
DTEND;TZID=America/Toronto:20260509T140000
DTSTAMP:20260423T090934
CREATED:20260420T111311Z
LAST-MODIFIED:20260420T111311Z
UID:10000103-1778328000-1778335200@richmondvillage.ca
SUMMARY:Duck Race 2026
DESCRIPTION:
URL:https://richmondvillage.ca/event/duck-race-2026/
CATEGORIES:non-RVA Event
ATTACH;FMTTYPE=image/png:https://richmondvillage.ca/wp-content/uploads/2026/04/duck_race_2026.png
END:VEVENT
END:VCALENDAR