BEGIN:VCALENDAR
VERSION:2.0
PRODID:-//Richmond Village Association - ECPv6.15.20//NONSGML v1.0//EN
CALSCALE:GREGORIAN
METHOD:PUBLISH
X-ORIGINAL-URL:https://richmondvillage.ca
X-WR-CALDESC:Events for Richmond Village Association
REFRESH-INTERVAL;VALUE=DURATION:PT1H
X-Robots-Tag:noindex
X-PUBLISHED-TTL:PT1H
BEGIN:VTIMEZONE
TZID:America/Toronto
BEGIN:DAYLIGHT
TZOFFSETFROM:-0500
TZOFFSETTO:-0400
TZNAME:EDT
DTSTART:20250309T070000
END:DAYLIGHT
BEGIN:STANDARD
TZOFFSETFROM:-0400
TZOFFSETTO:-0500
TZNAME:EST
DTSTART:20251102T060000
END:STANDARD
BEGIN:DAYLIGHT
TZOFFSETFROM:-0500
TZOFFSETTO:-0400
TZNAME:EDT
DTSTART:20260308T070000
END:DAYLIGHT
BEGIN:STANDARD
TZOFFSETFROM:-0400
TZOFFSETTO:-0500
TZNAME:EST
DTSTART:20261101T060000
END:STANDARD
BEGIN:DAYLIGHT
TZOFFSETFROM:-0500
TZOFFSETTO:-0400
TZNAME:EDT
DTSTART:20270314T070000
END:DAYLIGHT
BEGIN:STANDARD
TZOFFSETFROM:-0400
TZOFFSETTO:-0500
TZNAME:EST
DTSTART:20271107T060000
END:STANDARD
END:VTIMEZONE
BEGIN:VEVENT
DTSTART;TZID=America/Toronto:20260321T130000
DTEND;TZID=America/Toronto:20260321T150000
DTSTAMP:20260421T054743
CREATED:20260113T222923Z
LAST-MODIFIED:20260113T223824Z
UID:10000056-1774098000-1774105200@richmondvillage.ca
SUMMARY:Breastfeeding
DESCRIPTION:https://www.eventbrite.com/cc/breastfeeding-cafes-cafe-de-lallaitement-4805681\n \n 
URL:https://richmondvillage.ca/event/breastfeeding/2026-03-21/
LOCATION:2 MacNeil Ct\, 2 MacNeil Ct\, Kanata\, ON\, K2L 4H7\, Canada
CATEGORIES:non-RVA Event
ATTACH;FMTTYPE=image/png:https://richmondvillage.ca/wp-content/uploads/2026/01/breastfeeding.png
END:VEVENT
BEGIN:VEVENT
DTSTART;TZID=America/Toronto:20260321T163000
DTEND;TZID=America/Toronto:20260321T190000
DTSTAMP:20260421T054743
CREATED:20260303T220027Z
LAST-MODIFIED:20260303T220122Z
UID:10000066-1774110600-1774119600@richmondvillage.ca
SUMMARY:Open Table Dinner
DESCRIPTION:
URL:https://richmondvillage.ca/event/open-table-dinner/
LOCATION:St. John’s Anglican Church\, 67 Fowler\, Richmond\, ON\, K0A 2Z0
CATEGORIES:non-RVA Event
ATTACH;FMTTYPE=image/png:https://richmondvillage.ca/wp-content/uploads/2026/03/open_dinner.png
END:VEVENT
END:VCALENDAR